BEGIN:VCALENDAR
VERSION:2.0
PRODID:-//Svenska Stövarklubben - ECPv6.15.13//NONSGML v1.0//EN
CALSCALE:GREGORIAN
METHOD:PUBLISH
X-ORIGINAL-URL:https://www.stovare.se
X-WR-CALDESC:Händelser för Svenska Stövarklubben
REFRESH-INTERVAL;VALUE=DURATION:PT1H
X-Robots-Tag:noindex
X-PUBLISHED-TTL:PT1H
BEGIN:VTIMEZONE
TZID:UTC
BEGIN:STANDARD
TZOFFSETFROM:+0000
TZOFFSETTO:+0000
TZNAME:UTC
DTSTART:20210101T000000
END:STANDARD
END:VTIMEZONE
BEGIN:VTIMEZONE
TZID:Europe/Paris
BEGIN:DAYLIGHT
TZOFFSETFROM:+0100
TZOFFSETTO:+0200
TZNAME:CEST
DTSTART:20210328T010000
END:DAYLIGHT
BEGIN:STANDARD
TZOFFSETFROM:+0200
TZOFFSETTO:+0100
TZNAME:CET
DTSTART:20211031T010000
END:STANDARD
BEGIN:DAYLIGHT
TZOFFSETFROM:+0100
TZOFFSETTO:+0200
TZNAME:CEST
DTSTART:20220327T010000
END:DAYLIGHT
BEGIN:STANDARD
TZOFFSETFROM:+0200
TZOFFSETTO:+0100
TZNAME:CET
DTSTART:20221030T010000
END:STANDARD
BEGIN:DAYLIGHT
TZOFFSETFROM:+0100
TZOFFSETTO:+0200
TZNAME:CEST
DTSTART:20230326T010000
END:DAYLIGHT
BEGIN:STANDARD
TZOFFSETFROM:+0200
TZOFFSETTO:+0100
TZNAME:CET
DTSTART:20231029T010000
END:STANDARD
END:VTIMEZONE
BEGIN:VEVENT
DTSTART;TZID=UTC:20220807T080000
DTEND;TZID=UTC:20220807T170000
DTSTAMP:20260421T210013
CREATED:20220317T153015Z
LAST-MODIFIED:20220317T153015Z
UID:5476-1659859200-1659891600@www.stovare.se
SUMMARY:Utställning i Junsele
DESCRIPTION:Arrangör: Västernorrlands Läns Stövarklubb \nDomare: Olle B Häggkvist.
URL:https://www.stovare.se/event/utstallning-i-junsele/
END:VEVENT
BEGIN:VEVENT
DTSTART;TZID=UTC:20220807T080000
DTEND;TZID=UTC:20220807T080000
DTSTAMP:20260421T210013
CREATED:20220317T152826Z
LAST-MODIFIED:20220317T152826Z
UID:5474-1659859200-1659859200@www.stovare.se
SUMMARY:Utställning i Tranemo
DESCRIPTION:Arrangör: Västergötlands Stövarklubb \nDomare: Bo Paulsson.
URL:https://www.stovare.se/event/utstallning-i-tranemo/
END:VEVENT
BEGIN:VEVENT
DTSTART;TZID=UTC:20220806T080000
DTEND;TZID=UTC:20220806T080000
DTSTAMP:20260421T210013
CREATED:20220317T152645Z
LAST-MODIFIED:20220317T152645Z
UID:5472-1659772800-1659772800@www.stovare.se
SUMMARY:Utställning i Falkenberg
DESCRIPTION:Arrangör: Hallands Stövarklubb
URL:https://www.stovare.se/event/utstallning-i-falkenberg-2/
END:VEVENT
BEGIN:VEVENT
DTSTART;TZID=UTC:20220731T080000
DTEND;TZID=UTC:20220731T080000
DTSTAMP:20260421T210013
CREATED:20220317T152116Z
LAST-MODIFIED:20220317T152116Z
UID:5470-1659254400-1659254400@www.stovare.se
SUMMARY:Utställning i Olofström
DESCRIPTION:Arrangör: Skåne-Blekinge Stövarklubb
URL:https://www.stovare.se/event/utstallning-i-olofstrom/
END:VEVENT
BEGIN:VEVENT
DTSTART;TZID=UTC:20220703T080000
DTEND;TZID=UTC:20220703T170000
DTSTAMP:20260421T210013
CREATED:20220317T151959Z
LAST-MODIFIED:20220317T151959Z
UID:5468-1656835200-1656867600@www.stovare.se
SUMMARY:Utställning i Vindeln
DESCRIPTION:Arrangör: Västerbottens Läns Stövarklubb \nDomare: Lars Widén.
URL:https://www.stovare.se/event/utstallning-i-vindeln/
END:VEVENT
BEGIN:VEVENT
DTSTART;TZID=UTC:20220702T080000
DTEND;TZID=UTC:20220702T170000
DTSTAMP:20260421T210013
CREATED:20220317T151748Z
LAST-MODIFIED:20220317T151748Z
UID:5466-1656748800-1656781200@www.stovare.se
SUMMARY:Utställning i Sala
DESCRIPTION:Arrangör: Uppland-Västmanlands Stövarklubb \nDomare: Mats Jonsson.
URL:https://www.stovare.se/event/utstallning-i-sala/
END:VEVENT
BEGIN:VEVENT
DTSTART;TZID=UTC:20220618T080000
DTEND;TZID=UTC:20220618T170000
DTSTAMP:20260421T210013
CREATED:20220317T151616Z
LAST-MODIFIED:20220317T151616Z
UID:5464-1655539200-1655571600@www.stovare.se
SUMMARY:Utställning i Offerdal
DESCRIPTION:Arrangör: Jämtland-Härjedalens Stövarklubb \nDomare: Olle B Häggkvist.
URL:https://www.stovare.se/event/utstallning-i-offerdal/
END:VEVENT
BEGIN:VEVENT
DTSTART;TZID=UTC:20220611T080000
DTEND;TZID=UTC:20220611T080000
DTSTAMP:20260421T210013
CREATED:20220317T151449Z
LAST-MODIFIED:20220317T151449Z
UID:5462-1654934400-1654934400@www.stovare.se
SUMMARY:Utställning i Ödeshög
DESCRIPTION:Arrangör: Östergötlands Stövarklubb
URL:https://www.stovare.se/event/utstallning-i-odeshog/
END:VEVENT
BEGIN:VEVENT
DTSTART;TZID=UTC:20220605T080000
DTEND;TZID=UTC:20220605T080000
DTSTAMP:20260421T210013
CREATED:20220317T151316Z
LAST-MODIFIED:20220317T151316Z
UID:5460-1654416000-1654416000@www.stovare.se
SUMMARY:Utställning i Luleå
DESCRIPTION:Arrangör: Norrbottens Läns Stövarklubb \nDomare: Sarah Häggkvist.
URL:https://www.stovare.se/event/utstallning-i-lulea/
END:VEVENT
BEGIN:VEVENT
DTSTART;TZID=UTC:20220605T080000
DTEND;TZID=UTC:20220605T080000
DTSTAMP:20260421T210013
CREATED:20220317T151049Z
LAST-MODIFIED:20220317T151049Z
UID:5458-1654416000-1654416000@www.stovare.se
SUMMARY:Utställning i Alfta
DESCRIPTION:Arrangör: Gävleborgs Läns Stövarklubb \nDomare: Olle B Häggkvist.
URL:https://www.stovare.se/event/utstallning-i-alfta/
END:VEVENT
BEGIN:VEVENT
DTSTART;TZID=UTC:20220605T080000
DTEND;TZID=UTC:20220605T080000
DTSTAMP:20260421T210013
CREATED:20220317T150711Z
LAST-MODIFIED:20220317T150821Z
UID:5455-1654416000-1654416000@www.stovare.se
SUMMARY:Utställning i Götene
DESCRIPTION:Arrangör: Västergötlands Stövarklubb \nDomare: Göran Johansson. 
URL:https://www.stovare.se/event/utstallning-gotene/
END:VEVENT
BEGIN:VEVENT
DTSTART;TZID=UTC:20220604T080000
DTEND;TZID=UTC:20220604T080000
DTSTAMP:20260421T210013
CREATED:20220317T150559Z
LAST-MODIFIED:20220317T150559Z
UID:5453-1654329600-1654329600@www.stovare.se
SUMMARY:Utställning i Sundsvall
DESCRIPTION:Arrangör: Västernorrlands Läns Stövarklubb \nDomare: Petra Högberg.
URL:https://www.stovare.se/event/utstallning-i-sundsvall/
END:VEVENT
BEGIN:VEVENT
DTSTART;TZID=UTC:20220604T080000
DTEND;TZID=UTC:20220604T080000
DTSTAMP:20260421T210013
CREATED:20220317T150436Z
LAST-MODIFIED:20220317T150436Z
UID:5451-1654329600-1654329600@www.stovare.se
SUMMARY:Utställning i Borlänge
DESCRIPTION:Arrangör: Dalarnas Stövarklubb \nDomare: Bo Paulsson.
URL:https://www.stovare.se/event/utstallning-i-borlange/
END:VEVENT
BEGIN:VEVENT
DTSTART;VALUE=DATE:20220604
DTEND;VALUE=DATE:20220606
DTSTAMP:20260421T210013
CREATED:20220317T160246Z
LAST-MODIFIED:20220317T160246Z
UID:5498-1654300800-1654473599@www.stovare.se
SUMMARY:Fullmäktigemöte
DESCRIPTION:Best Western Arlanda Hotellby\, Stockholm.
URL:https://www.stovare.se/event/fullmaktigemote/
END:VEVENT
BEGIN:VEVENT
DTSTART;TZID=UTC:20220529T080000
DTEND;TZID=UTC:20220529T170000
DTSTAMP:20260421T210013
CREATED:20220317T150132Z
LAST-MODIFIED:20220317T150132Z
UID:5447-1653811200-1653843600@www.stovare.se
SUMMARY:Utställning i Karlskoga
DESCRIPTION:Arrangör: Örebro Läns Stövarklubb
URL:https://www.stovare.se/event/utstallning-i-karlskoga/
END:VEVENT
BEGIN:VEVENT
DTSTART;TZID=UTC:20220529T080000
DTEND;TZID=UTC:20220529T080000
DTSTAMP:20260421T210013
CREATED:20220317T150301Z
LAST-MODIFIED:20220317T150301Z
UID:5449-1653811200-1653811200@www.stovare.se
SUMMARY:Utställning i Lycksele
DESCRIPTION:Arrangör: Västerbottens Läns Stövarklubb \nDomare: Göran Johansson. 
URL:https://www.stovare.se/event/utstallning-i-lycksele/
END:VEVENT
BEGIN:VEVENT
DTSTART;TZID=UTC:20220528T080000
DTEND;TZID=UTC:20220528T080000
DTSTAMP:20260421T210013
CREATED:20220317T145900Z
LAST-MODIFIED:20220317T145900Z
UID:5444-1653724800-1653724800@www.stovare.se
SUMMARY:Riksutställning i Eksjö
DESCRIPTION:Arrangör: Smålands Stövarklubb \nDomare: Petra Högberg och Ted Karlsson
URL:https://www.stovare.se/event/riksutstallning-i-eksjo/
END:VEVENT
BEGIN:VEVENT
DTSTART;TZID=UTC:20220528T080000
DTEND;TZID=UTC:20220528T080000
DTSTAMP:20260421T210013
CREATED:20220317T145609Z
LAST-MODIFIED:20220317T145609Z
UID:5442-1653724800-1653724800@www.stovare.se
SUMMARY:Utställning i Skokloster
DESCRIPTION:Arrangör Uppland-Västmanlands Stövarklubb \nDomare: Nina Karlsdotter.
URL:https://www.stovare.se/event/utstallning-i-skokloster/
END:VEVENT
BEGIN:VEVENT
DTSTART;TZID=UTC:20220522T080000
DTEND;TZID=UTC:20220522T080000
DTSTAMP:20260421T210013
CREATED:20220317T145227Z
LAST-MODIFIED:20220317T145227Z
UID:5439-1653206400-1653206400@www.stovare.se
SUMMARY:Utställning i Karlstad
DESCRIPTION:Arrangör: Värmlands Stövarklubb \nDomare: Lars Omdal\, Norge. 
URL:https://www.stovare.se/event/utstallning-i-karlstad/
END:VEVENT
BEGIN:VEVENT
DTSTART;TZID=UTC:20220521T080000
DTEND;TZID=UTC:20220521T080000
DTSTAMP:20260421T210013
CREATED:20220317T144209Z
LAST-MODIFIED:20220317T144258Z
UID:5436-1653120000-1653120000@www.stovare.se
SUMMARY:Utställning i Östersund
DESCRIPTION:Arrangör: Jämtland-Härjedalens Stövarklubb \nDomare: Thomas Eriksson
URL:https://www.stovare.se/event/utstallning-i-ostersund/
END:VEVENT
BEGIN:VEVENT
DTSTART;TZID=UTC:20220521T080000
DTEND;TZID=UTC:20220521T080000
DTSTAMP:20260421T210013
CREATED:20220317T144018Z
LAST-MODIFIED:20220317T144018Z
UID:5433-1653120000-1653120000@www.stovare.se
SUMMARY:Utställning i Färgelanda
DESCRIPTION:Arrangör: Bohuslän-Dals Stövarklubb \nDomare: Sarah Häggkvist.
URL:https://www.stovare.se/event/utstallning-i-fargelanda/
END:VEVENT
BEGIN:VEVENT
DTSTART;TZID=UTC:20220521T080000
DTEND;TZID=UTC:20220521T080000
DTSTAMP:20260421T210013
CREATED:20220317T143827Z
LAST-MODIFIED:20220317T143827Z
UID:5431-1653120000-1653120000@www.stovare.se
SUMMARY:Utställning i Flen
DESCRIPTION:Arrangör: Södermanlands Stövarklubb
URL:https://www.stovare.se/event/utstallning-i-flen/
END:VEVENT
BEGIN:VEVENT
DTSTART;TZID=UTC:20220514T080000
DTEND;TZID=UTC:20220514T080000
DTSTAMP:20260421T210013
CREATED:20220317T143248Z
LAST-MODIFIED:20220317T143248Z
UID:5429-1652515200-1652515200@www.stovare.se
SUMMARY:Utställning i Romakloster
DESCRIPTION:Arrangör: Gotlands Stövarklubb
URL:https://www.stovare.se/event/utstallning-i-romakloster/
END:VEVENT
BEGIN:VEVENT
DTSTART;TZID=UTC:20220514T080000
DTEND;TZID=UTC:20220514T080000
DTSTAMP:20260421T210013
CREATED:20220317T143058Z
LAST-MODIFIED:20220317T143058Z
UID:5427-1652515200-1652515200@www.stovare.se
SUMMARY:Utställning i Markaryd
DESCRIPTION:Arrangör: Sydsvenska Stövarklubben \nDomare: Sarah Häggkvist.
URL:https://www.stovare.se/event/utstallning-i-markaryd/
END:VEVENT
BEGIN:VEVENT
DTSTART;TZID=UTC:20220508T080000
DTEND;TZID=UTC:20220508T080000
DTSTAMP:20260421T210013
CREATED:20220317T142838Z
LAST-MODIFIED:20220317T142838Z
UID:5425-1651996800-1651996800@www.stovare.se
SUMMARY:Utställning i Lerum
DESCRIPTION:Arrangör: Västsvenska Stövarklubben
URL:https://www.stovare.se/event/utstallning-i-lerum/
END:VEVENT
BEGIN:VEVENT
DTSTART;TZID=UTC:20220507T080000
DTEND;TZID=UTC:20220507T170000
DTSTAMP:20260421T210013
CREATED:20220317T142643Z
LAST-MODIFIED:20220317T160858Z
UID:5423-1651910400-1651942800@www.stovare.se
SUMMARY:Utställning i Sollefteå
DESCRIPTION:Arrangör: Västernorrland Läns Stövarklubb \nDomare: Aina Lundmark.
URL:https://www.stovare.se/event/utstallning-i-solleftea/
END:VEVENT
BEGIN:VEVENT
DTSTART;TZID=UTC:20220507T080000
DTEND;TZID=UTC:20220507T080000
DTSTAMP:20260421T210013
CREATED:20220317T142505Z
LAST-MODIFIED:20220317T142505Z
UID:5421-1651910400-1651910400@www.stovare.se
SUMMARY:Utställning i Falkenberg
DESCRIPTION:Arrangör: Hallands Stövarklubb
URL:https://www.stovare.se/event/utstallning-i-falkenberg/
END:VEVENT
BEGIN:VEVENT
DTSTART;TZID=UTC:20220424T080000
DTEND;TZID=UTC:20220424T080000
DTSTAMP:20260421T210013
CREATED:20220317T142139Z
LAST-MODIFIED:20220317T142139Z
UID:5419-1650787200-1650787200@www.stovare.se
SUMMARY:Utställning i Hässleholm
DESCRIPTION:Arrangör: Skåne-Blekinge Stövarklubb \nDomare: Dennis Liljeborg
URL:https://www.stovare.se/event/utstallning-i-hassleholm/
END:VEVENT
BEGIN:VEVENT
DTSTART;VALUE=DATE:20220424
DTEND;VALUE=DATE:20220425
DTSTAMP:20260421T210013
CREATED:20220316T074625Z
LAST-MODIFIED:20220316T074625Z
UID:5403-1650758400-1650844799@www.stovare.se
SUMMARY:Utställning i Ockelbo 24 april
DESCRIPTION:Domare: Lars Widén \nSista anmälningsdag: 8/4- 2022 \nAnmälningsavgift alla klasser 300 kr\, Valpklass 100kr. \nOBS! Ange hundens regnummer & hundens namn vid betalningen. \nSwish till: 123 693 57 61 eller genom Handelsbanken 6412-523 918 828 \nVar noga med att anmäla hunden i rätt klass! \nAnmäl dig här.
URL:https://www.stovare.se/event/utstallning-i-ockelbo-24-april/
LOCATION:Utställning\, Ockelbo\, Sverige
CATEGORIES:Gävleborg
ATTACH;FMTTYPE=image/jpeg:https://www.stovare.se/wp-content/uploads/2022/03/IMG_20210807_131328.jpg
ORGANIZER;CN="G%C3%A4vleborgs st%C3%B6varklubb":MAILTO:gunilla.karsbo@telia.com
END:VEVENT
BEGIN:VEVENT
DTSTART;TZID=UTC:20220423T080000
DTEND;TZID=UTC:20220423T080000
DTSTAMP:20260421T210013
CREATED:20220317T135634Z
LAST-MODIFIED:20220317T142002Z
UID:5414-1650700800-1650700800@www.stovare.se
SUMMARY:Utställning i Värnamo
DESCRIPTION:Arrangör: Smålands Stövarklubb \nDomare: Morgan Wackt
URL:https://www.stovare.se/event/utstallning-varnamo/
END:VEVENT
END:VCALENDAR