BEGIN:VCALENDAR
VERSION:2.0
PRODID:-//Svenska Stövarklubben - ECPv6.15.13//NONSGML v1.0//EN
CALSCALE:GREGORIAN
METHOD:PUBLISH
X-WR-CALNAME:Svenska Stövarklubben
X-ORIGINAL-URL:https://www.stovare.se
X-WR-CALDESC:Händelser för Svenska Stövarklubben
REFRESH-INTERVAL;VALUE=DURATION:PT1H
X-Robots-Tag:noindex
X-PUBLISHED-TTL:PT1H
BEGIN:VTIMEZONE
TZID:Europe/Stockholm
BEGIN:DAYLIGHT
TZOFFSETFROM:+0100
TZOFFSETTO:+0200
TZNAME:CEST
DTSTART:20220327T010000
END:DAYLIGHT
BEGIN:STANDARD
TZOFFSETFROM:+0200
TZOFFSETTO:+0100
TZNAME:CET
DTSTART:20221030T010000
END:STANDARD
BEGIN:DAYLIGHT
TZOFFSETFROM:+0100
TZOFFSETTO:+0200
TZNAME:CEST
DTSTART:20230326T010000
END:DAYLIGHT
BEGIN:STANDARD
TZOFFSETFROM:+0200
TZOFFSETTO:+0100
TZNAME:CET
DTSTART:20231029T010000
END:STANDARD
BEGIN:DAYLIGHT
TZOFFSETFROM:+0100
TZOFFSETTO:+0200
TZNAME:CEST
DTSTART:20240331T010000
END:DAYLIGHT
BEGIN:STANDARD
TZOFFSETFROM:+0200
TZOFFSETTO:+0100
TZNAME:CET
DTSTART:20241027T010000
END:STANDARD
END:VTIMEZONE
BEGIN:VTIMEZONE
TZID:UTC
BEGIN:STANDARD
TZOFFSETFROM:+0000
TZOFFSETTO:+0000
TZNAME:UTC
DTSTART:20210101T000000
END:STANDARD
END:VTIMEZONE
BEGIN:VEVENT
DTSTART;VALUE=DATE:20230527
DTEND;VALUE=DATE:20230528
DTSTAMP:20260421T175550
CREATED:20230223T191131Z
LAST-MODIFIED:20230327T164822Z
UID:6042-1685145600-1685231999@www.stovare.se
SUMMARY:Utställning KARLSKOGA Svenska Stövarklubben Örebro Läns Stövarklubb
DESCRIPTION:
URL:https://www.stovare.se/event/utstallning-karlskoga-svenska-stovarklubben-orebro-lans-stovarklubb/
END:VEVENT
BEGIN:VEVENT
DTSTART;VALUE=DATE:20230521
DTEND;VALUE=DATE:20230522
DTSTAMP:20260421T175550
CREATED:20230223T190953Z
LAST-MODIFIED:20230327T164622Z
UID:6040-1684627200-1684713599@www.stovare.se
SUMMARY:Utställning BORLÄNGE Svenska Stövarklubben Dalarnas Stövarklubb
DESCRIPTION:
URL:https://www.stovare.se/event/utstallning-borlange-svenska-stovarklubben-dalarnas-stovarklubb/
END:VEVENT
BEGIN:VEVENT
DTSTART;VALUE=DATE:20230520
DTEND;VALUE=DATE:20230521
DTSTAMP:20260421T175550
CREATED:20230223T190647Z
LAST-MODIFIED:20230305T170441Z
UID:6038-1684540800-1684627199@www.stovare.se
SUMMARY:Utställning ÖSTERSUND Svenska Stövarklubben Jämtl-Härjedalens Stövarkl
DESCRIPTION:
URL:https://www.stovare.se/event/utstallning-ostersund-svenska-stovarklubben-jamtl-harjedalens-stovarkl/
END:VEVENT
BEGIN:VEVENT
DTSTART;VALUE=DATE:20230520
DTEND;VALUE=DATE:20230521
DTSTAMP:20260421T175550
CREATED:20230223T190525Z
LAST-MODIFIED:20230327T164112Z
UID:6036-1684540800-1684627199@www.stovare.se
SUMMARY:Utställning ED Svenska Stövarklubben Bohuslän-Dals Stövarklubb
DESCRIPTION:
URL:https://www.stovare.se/event/utstallning-ed-svenska-stovarklubben-bohuslan-dals-stovarklubb/
END:VEVENT
BEGIN:VEVENT
DTSTART;VALUE=DATE:20230520
DTEND;VALUE=DATE:20230521
DTSTAMP:20260421T175550
CREATED:20230223T190417Z
LAST-MODIFIED:20230327T163956Z
UID:6034-1684540800-1684627199@www.stovare.se
SUMMARY:Utställning ROMAKLOSTER Svenska Stövarklubben Gotlands Stövarklubb
DESCRIPTION:
URL:https://www.stovare.se/event/utstallning-romakloster-svenska-stovarklubben-gotlands-stovarklubb/
END:VEVENT
BEGIN:VEVENT
DTSTART;VALUE=DATE:20230520
DTEND;VALUE=DATE:20230521
DTSTAMP:20260421T175550
CREATED:20230223T190246Z
LAST-MODIFIED:20230327T164501Z
UID:6032-1684540800-1684627199@www.stovare.se
SUMMARY:Utställning FLEN Svenska Stövarklubben Södermanlands Stövarklubb
DESCRIPTION:
URL:https://www.stovare.se/event/utstallning-flen-svenska-stovarklubben-sodermanlands-stovarklubb/
END:VEVENT
BEGIN:VEVENT
DTSTART;VALUE=DATE:20230514
DTEND;VALUE=DATE:20230515
DTSTAMP:20260421T175550
CREATED:20230223T190113Z
LAST-MODIFIED:20230327T163822Z
UID:6030-1684022400-1684108799@www.stovare.se
SUMMARY:Utställning Plats Ljungby Svenska Stövarklubben Sydsvenska Stövarklubben Domare Morgan Wackt
DESCRIPTION:
URL:https://www.stovare.se/event/utstallning-lagan-svenska-stovarklubben-sydsvenska-stovarklubben/
END:VEVENT
BEGIN:VEVENT
DTSTART;VALUE=DATE:20230507
DTEND;VALUE=DATE:20230508
DTSTAMP:20260421T175550
CREATED:20230223T185839Z
LAST-MODIFIED:20230327T163656Z
UID:6028-1683417600-1683503999@www.stovare.se
SUMMARY:Utställning LERUM Svenska Stövarklubben Västsvenska Stövarklubben
DESCRIPTION:
URL:https://www.stovare.se/event/utstallning-lerum-svenska-stovarklubben-vastsvenska-stovarklubben/
END:VEVENT
BEGIN:VEVENT
DTSTART;VALUE=DATE:20230506
DTEND;VALUE=DATE:20230507
DTSTAMP:20260421T175550
CREATED:20230223T185701Z
LAST-MODIFIED:20230305T111431Z
UID:6026-1683331200-1683417599@www.stovare.se
SUMMARY:Utställning SÄFFLE Svenska Stövarklubben Värmlands Stövarklubb
DESCRIPTION:
URL:https://www.stovare.se/event/utstallning-saffle-svenska-stovarklubben-varmlands-stovarklubb/
END:VEVENT
BEGIN:VEVENT
DTSTART;VALUE=DATE:20230506
DTEND;VALUE=DATE:20230507
DTSTAMP:20260421T175550
CREATED:20230223T185510Z
LAST-MODIFIED:20230223T185510Z
UID:6024-1683331200-1683417599@www.stovare.se
SUMMARY:Utställning ÅMOTSBRUK Svenska Stövarklubben Gävleborgs Läns Stövarklubb
DESCRIPTION:
URL:https://www.stovare.se/event/utstallning-amotsbruk-svenska-stovarklubben-gavleborgs-lans-stovarklubb/
END:VEVENT
BEGIN:VEVENT
DTSTART;VALUE=DATE:20230506
DTEND;VALUE=DATE:20230507
DTSTAMP:20260421T175550
CREATED:20230223T185207Z
LAST-MODIFIED:20230305T170730Z
UID:6022-1683331200-1683417599@www.stovare.se
SUMMARY:Utställning SOLLEFTEÅ Svenska Stövarklubben Västernorrl Läns Stövarkl
DESCRIPTION:
URL:https://www.stovare.se/event/utstallning-solleftea-svenska-stovarklubben-vasternorrl-lans-stovarkl/
END:VEVENT
BEGIN:VEVENT
DTSTART;VALUE=DATE:20230506
DTEND;VALUE=DATE:20230507
DTSTAMP:20260421T175550
CREATED:20230223T185053Z
LAST-MODIFIED:20230226T172726Z
UID:6020-1683331200-1683417599@www.stovare.se
SUMMARY:Utställning ULLARED Svenska Stövarklubben Hallands Stövarklubb Domare Ted Karlsson
DESCRIPTION:
URL:https://www.stovare.se/event/utstallning-ullared-svenska-stovarklubben-hallands-stovarklubb/
END:VEVENT
BEGIN:VEVENT
DTSTART;VALUE=DATE:20230430
DTEND;VALUE=DATE:20230501
DTSTAMP:20260421T175550
CREATED:20230223T184938Z
LAST-MODIFIED:20230327T163335Z
UID:6018-1682812800-1682899199@www.stovare.se
SUMMARY:UtställningHÄSSLEHOLM Svenska Stövarklubben Skåne-Blekinge Stövarklubb
DESCRIPTION:
URL:https://www.stovare.se/event/utstallninghassleholm-svenska-stovarklubben-skane-blekinge-stovarklubb/
END:VEVENT
BEGIN:VEVENT
DTSTART;VALUE=DATE:20230429
DTEND;VALUE=DATE:20230430
DTSTAMP:20260421T175550
CREATED:20230223T184732Z
LAST-MODIFIED:20230305T165247Z
UID:6016-1682726400-1682812799@www.stovare.se
SUMMARY:Utställning VÄRNAMO Svenska Stövarklubben Smålands Stövarklubb
DESCRIPTION:
URL:https://www.stovare.se/event/utstallning-varnamo-svenska-stovarklubben-smalands-stovarklubb/
END:VEVENT
BEGIN:VEVENT
DTSTART;VALUE=DATE:20230326
DTEND;VALUE=DATE:20230327
DTSTAMP:20260421T175550
CREATED:20230223T184304Z
LAST-MODIFIED:20230227T195644Z
UID:6012-1679788800-1679875199@www.stovare.se
SUMMARY:Utställningar OSBY Svenska Stövarklubben Sydsvenska Stövarklubben Domare Gunnar Furvik
DESCRIPTION:
URL:https://www.stovare.se/event/osby-svenska-stovarklubben-sydsvenska-stovarklubben/
END:VEVENT
BEGIN:VEVENT
DTSTART;VALUE=DATE:20230318
DTEND;VALUE=DATE:20230319
DTSTAMP:20260421T175550
CREATED:20230223T184008Z
LAST-MODIFIED:20230305T105210Z
UID:6007-1679097600-1679183999@www.stovare.se
SUMMARY:Utställningar HEBY Svenska Stövarklubben Uppl-Västmanlands  inställt på grund av oförutsebara händelser
DESCRIPTION:
URL:https://www.stovare.se/event/utstallningar-heby-svenska-stovarklubben-uppl-vastmanlands-stovarkl/
END:VEVENT
BEGIN:VEVENT
DTSTART;TZID=UTC:20220821T080000
DTEND;TZID=UTC:20220821T080000
DTSTAMP:20260421T175550
CREATED:20220317T154359Z
LAST-MODIFIED:20220317T154359Z
UID:5494-1661068800-1661068800@www.stovare.se
SUMMARY:Utställning i Åseda
DESCRIPTION:Arrangör: Smålands Stövarklubb \nDomare: Boo Lundmark
URL:https://www.stovare.se/event/utstallning-i-aseda/
END:VEVENT
BEGIN:VEVENT
DTSTART;TZID=UTC:20220814T080000
DTEND;TZID=UTC:20220814T170000
DTSTAMP:20260421T175550
CREATED:20220317T154232Z
LAST-MODIFIED:20220317T154232Z
UID:5492-1660464000-1660496400@www.stovare.se
SUMMARY:Utställning i Norsjö
DESCRIPTION:Arrangör: Västerbottens Läns Stövarklubb
URL:https://www.stovare.se/event/utstallning-i-norsjo/
END:VEVENT
BEGIN:VEVENT
DTSTART;TZID=UTC:20220814T080000
DTEND;TZID=UTC:20220814T170000
DTSTAMP:20260421T175550
CREATED:20220317T153940Z
LAST-MODIFIED:20220317T153940Z
UID:5488-1660464000-1660496400@www.stovare.se
SUMMARY:Utställning i Rättvik
DESCRIPTION:Arrangör: Dalarnas Stövarklubb \nDomare: Göran Johansson.
URL:https://www.stovare.se/event/utstallning-i-rattvik-2/
END:VEVENT
BEGIN:VEVENT
DTSTART;TZID=UTC:20220814T080000
DTEND;TZID=UTC:20220814T080000
DTSTAMP:20260421T175550
CREATED:20220317T154109Z
LAST-MODIFIED:20220317T154109Z
UID:5490-1660464000-1660464000@www.stovare.se
SUMMARY:Utställning i Norrtälje
DESCRIPTION:Arrangör: Uppland-Västmanlands Stövarklubb \nDomare: Morgan Wacht.
URL:https://www.stovare.se/event/utstallning-i-norrtalje/
END:VEVENT
BEGIN:VEVENT
DTSTART;TZID=UTC:20220813T080000
DTEND;TZID=UTC:20220813T080000
DTSTAMP:20260421T175550
CREATED:20220317T153805Z
LAST-MODIFIED:20220317T153805Z
UID:5486-1660377600-1660377600@www.stovare.se
SUMMARY:Utställning i Rättvik
DESCRIPTION:Arrangör: Dalarnas Stövarklubb \nDomare: Per Harald Sivesind. 
URL:https://www.stovare.se/event/utstallning-i-rattvik/
END:VEVENT
BEGIN:VEVENT
DTSTART;TZID=UTC:20220807T080000
DTEND;TZID=UTC:20220807T170000
DTSTAMP:20260421T175550
CREATED:20220317T153634Z
LAST-MODIFIED:20220317T161118Z
UID:5483-1659859200-1659891600@www.stovare.se
SUMMARY:Utställning i Hassela
DESCRIPTION:Arrangör: Gävleborgs Läns Stövarklubb \nDomare: Gunnar Norlin.
URL:https://www.stovare.se/event/utstallning-i-hassela/
END:VEVENT
BEGIN:VEVENT
DTSTART;TZID=UTC:20220807T080000
DTEND;TZID=UTC:20220807T170000
DTSTAMP:20260421T175550
CREATED:20220317T153303Z
LAST-MODIFIED:20220317T153303Z
UID:5480-1659859200-1659891600@www.stovare.se
SUMMARY:Utställning i Sunne
DESCRIPTION:Arrangör: Värmlands Stövarklubb
URL:https://www.stovare.se/event/utstallning-i-sunne/
END:VEVENT
BEGIN:VEVENT
DTSTART;TZID=UTC:20220807T080000
DTEND;TZID=UTC:20220807T170000
DTSTAMP:20260421T175550
CREATED:20220317T153135Z
LAST-MODIFIED:20220317T153135Z
UID:5478-1659859200-1659891600@www.stovare.se
SUMMARY:Utställning i Kalix
DESCRIPTION:Arrangör: Norrbottens Läns Stövarklubb \nDomare: Kurt Nilsson.
URL:https://www.stovare.se/event/utstallning-i-kalix/
END:VEVENT
BEGIN:VEVENT
DTSTART;TZID=UTC:20220807T080000
DTEND;TZID=UTC:20220807T170000
DTSTAMP:20260421T175550
CREATED:20220317T153015Z
LAST-MODIFIED:20220317T153015Z
UID:5476-1659859200-1659891600@www.stovare.se
SUMMARY:Utställning i Junsele
DESCRIPTION:Arrangör: Västernorrlands Läns Stövarklubb \nDomare: Olle B Häggkvist.
URL:https://www.stovare.se/event/utstallning-i-junsele/
END:VEVENT
BEGIN:VEVENT
DTSTART;TZID=UTC:20220807T080000
DTEND;TZID=UTC:20220807T080000
DTSTAMP:20260421T175550
CREATED:20220317T152826Z
LAST-MODIFIED:20220317T152826Z
UID:5474-1659859200-1659859200@www.stovare.se
SUMMARY:Utställning i Tranemo
DESCRIPTION:Arrangör: Västergötlands Stövarklubb \nDomare: Bo Paulsson.
URL:https://www.stovare.se/event/utstallning-i-tranemo/
END:VEVENT
BEGIN:VEVENT
DTSTART;TZID=UTC:20220806T080000
DTEND;TZID=UTC:20220806T080000
DTSTAMP:20260421T175550
CREATED:20220317T152645Z
LAST-MODIFIED:20220317T152645Z
UID:5472-1659772800-1659772800@www.stovare.se
SUMMARY:Utställning i Falkenberg
DESCRIPTION:Arrangör: Hallands Stövarklubb
URL:https://www.stovare.se/event/utstallning-i-falkenberg-2/
END:VEVENT
BEGIN:VEVENT
DTSTART;TZID=UTC:20220731T080000
DTEND;TZID=UTC:20220731T080000
DTSTAMP:20260421T175550
CREATED:20220317T152116Z
LAST-MODIFIED:20220317T152116Z
UID:5470-1659254400-1659254400@www.stovare.se
SUMMARY:Utställning i Olofström
DESCRIPTION:Arrangör: Skåne-Blekinge Stövarklubb
URL:https://www.stovare.se/event/utstallning-i-olofstrom/
END:VEVENT
BEGIN:VEVENT
DTSTART;TZID=UTC:20220703T080000
DTEND;TZID=UTC:20220703T170000
DTSTAMP:20260421T175550
CREATED:20220317T151959Z
LAST-MODIFIED:20220317T151959Z
UID:5468-1656835200-1656867600@www.stovare.se
SUMMARY:Utställning i Vindeln
DESCRIPTION:Arrangör: Västerbottens Läns Stövarklubb \nDomare: Lars Widén.
URL:https://www.stovare.se/event/utstallning-i-vindeln/
END:VEVENT
BEGIN:VEVENT
DTSTART;TZID=UTC:20220702T080000
DTEND;TZID=UTC:20220702T170000
DTSTAMP:20260421T175550
CREATED:20220317T151748Z
LAST-MODIFIED:20220317T151748Z
UID:5466-1656748800-1656781200@www.stovare.se
SUMMARY:Utställning i Sala
DESCRIPTION:Arrangör: Uppland-Västmanlands Stövarklubb \nDomare: Mats Jonsson.
URL:https://www.stovare.se/event/utstallning-i-sala/
END:VEVENT
END:VCALENDAR